Workbook
Name SegmentaçãodeDados_BIOME: #N/A
Name SegmentaçãodeDados_BIOME1: #N/A
Name SegmentaçãodeDados_CLASS_NAME: #N/A
Name SegmentaçãodeDados_REGION: #N/A
Name SegmentaçãodeDados_REGION1: #N/A
Name SegmentaçãodeDados_STATE: #N/A
Name SegmentaçãodeDados_STATE1: #N/A
Name SegmentaçãodeDados_TERRITORY: #N/A
Name SegmentaçãodeDados_TERRITORY1: #N/A

Sheet READ_ME
G4: Versão 1 | R4: Version 1
G5: Setembro 2026 | R5: September 2026
C18: BASE DE DADOS DE USO AGRÍCOLA - 2ª SAFRA | N18: AGRICULTURE USE - 2ND CROP DATABASE
C21: 1. Esta base de dados contém as áreas (ha) por classe de uso agrícola de segunda safra no Brasil para o cruzamento entre bioma, estado e área de aplicação da Lei da Mata Atlântica no período de 2000 a 2025. | N21: 1. This database contains the area (ha) per agriculture use - second crop - class for each biome, state and the application area of Atlantic Forest Law for the period from 2000 to 2025.
C23: 2. Para acessar a base de dados georeferenciada acesse: https://plataforma.brasil.mapbiomas.org/ | N23: 2. To acesss the complete georeferenced data please access: https://plataforma.brasil.mapbiomas.org/
C26: 3. Os dados do MapBiomas são públicos e gratuitos mediante a simples referência da fonte observando o seguinte formato: | N26: 3. The MapBiomas data are public, open and free through the simple reference of the source observing the following format:
C28: "Projeto MapBiomas – Coleção [versão] da Série Anual de Mapas de Cobertura e Uso da Terra do Brasil, acessado em [data] através do link: [LINK]" | N28: "Project MapBiomas - Collection [version] of Brazilian Land Cover & Use Map Series, accessed on [date] through the link: [LINK]"
C29: "Projeto MapBiomas - é uma iniciativa multi-institucional para gerar mapas anuais de cobertura e uso da terra a partir de processos de classificação automática aplicada a imagens de satélite. A descrição completa do projeto encontra-se em http://mapbiomas.org" | N29: "MapBiomas Project - is a multi-institutional initiative to generate annual land cover and use maps using automatic classification processes applied to satellite images. The complete description of the project can be found at http://mapbiomas.org"
B89: mapbiomas2018

Sheet AGRICULTURE_USE_2ND_CROP
A1: COUNTRY | B1: BIOME | C1: REGION | D1: STATE | E1: TERRITORY | F1: 2ND_CROP_CLASS_ID | G1: 2ND_CROP_CLASS_NAME | H1: VERSION | I1: COLLECTION | J1: y2000 | K1: y2001 | L1: y2002 | M1: y2003 | N1: y2004 | O1: y2005 | P1: y2006 | Q1: y2007 | R1: y2008 | S1: y2009 | T1: y2010 | U1: y2011 | V1: y2012 | W1: y2013 | X1: y2014 | Y1: y2015 | Z1: y2016 | AA1: y2017 | AB1: y2018 | AC1: y2019 | AD1: y2020 | AE1: y2021 | AF1: y2022 | AG1: y2023 | AH1: y2024 | AI1: y2025
A2: Brasil | B2: Caatinga | C2: Sudeste | D2: Minas Gerais | E2: Área de Aplicação da Lei da Mata Atlântica, 1:1.000.000 | F2: 1 | G2: Milho de segunda safra | H2: v1.1 | I2: 11 | J2: =SUMIFS('2ND_CROP_BY_1ST_CROP'!L$2:L$95,'2ND_CROP_BY_1ST_CROP'!$F$2:$F$95,AGRICULTURE_USE_2ND_CROP!$F2,'2ND_CROP_BY_1ST_CROP'!$D$2:$D$95,AGRICULTURE_USE_2ND_CROP!$D2,'2ND_CROP_BY_1ST_CROP'!$B$2:$B$95,AGRICULTURE_USE_2ND_CROP!$B2) -> 262.08141 | K2: =SUMIFS('2ND_CROP_BY_1ST_CROP'!M$2:M$95,'2ND_CROP_BY_1ST_CROP'!$F$2:$F$95,AGRICULTURE_USE_2ND_CROP!$F2,'2ND_CROP_BY_1ST_CROP'!$D$2:$D$95,AGRICULTURE_USE_2ND_CROP!$D2,'2ND_CROP_BY_1ST_CROP'!$B$2:$B$95,AGRICULTURE_USE_2ND_CROP!$B2) -> 513.59646 | L2: =SUMIFS('2ND_CROP_BY_1ST_CROP'!N$2:N$95,'2ND_CROP_BY_1ST_CROP'!$F$2:$F$95,AGRICULTURE_USE_2ND_CROP!$F2,'2ND_CROP_BY_1ST_CROP'!$D$2:$D$95,AGRICULTURE_USE_2ND_CROP!$D2,'2ND_CROP_BY_1ST_CROP'!$B$2:$B$95,AGRICULTURE_USE_2ND_CROP!$B2) -> 566.62986 | M2: =SUMIFS('2ND_CROP_BY_1ST_CROP'!O$2:O$95,'2ND_CROP_BY_1ST_CROP'!$F$2:$F$95,AGRICULTURE_USE_2ND_CROP!$F2,'2ND_CROP_BY_1ST_CROP'!$D$2:$D$95,AGRICULTURE_USE_2ND_CROP!$D2,'2ND_CROP_BY_1ST_CROP'!$B$2:$B$95,AGRICULTURE_USE_2ND_CROP!$B2) -> 458.6024 | N2: =SUMIFS('2ND_CROP_BY_1ST_CROP'!P$2:P$95,'2ND_CROP_BY_1ST_CROP'!$F$2:$F$95,AGRICULTURE_USE_2ND_CROP!$F2,'2ND_CROP_BY_1ST_CROP'!$D$2:$D$95,AGRICULTURE_USE_2ND_CROP!$D2,'2ND_CROP_BY_1ST_CROP'!$B$2:$B$95,AGRICULTURE_USE_2ND_CROP!$B2) -> 396.5564 | O2: =SUMIFS('2ND_CROP_BY_1ST_CROP'!Q$2:Q$95,'2ND_CROP_BY_1ST_CROP'!$F$2:$F$95,AGRICULTURE_USE_2ND_CROP!$F2,'2ND_CROP_BY_1ST_CROP'!$D$2:$D$95,AGRICULTURE_USE_2ND_CROP!$D2,'2ND_CROP_BY_1ST_CROP'!$B$2:$B$95,AGRICULTURE_USE_2ND_CROP!$B2) -> 390.44286 | P2: =SUMIFS('2ND_CROP_BY_1ST_CROP'!R$2:R$95,'2ND_CROP_BY_1ST_CROP'!$F$2:$F$95,AGRICULTURE_USE_2ND_CROP!$F2,'2ND_CROP_BY_1ST_CROP'!$D$2:$D$95,AGRICULTURE_USE_2ND_CROP!$D2,'2ND_CROP_BY_1ST_CROP'!$B$2:$B$95,AGRICULTURE_USE_2ND_CROP!$B2) -> 380.26712 | Q2: =SUMIFS('2ND_CROP_BY_1ST_CROP'!S$2:S$95,'2ND_CROP_BY_1ST_CROP'!$F$2:$F$95,AGRICULTURE_USE_2ND_CROP!$F2,'2ND_CROP_BY_1ST_CROP'!$D$2:$D$95,AGRICULTURE_USE_2ND_CROP!$D2,'2ND_CROP_BY_1ST_CROP'!$B$2:$B$95,AGRICULTURE_USE_2ND_CROP!$B2) -> 370.66887 | ... AI2: =SUMIFS('2ND_CROP_BY_1ST_CROP'!AK$2:AK$95,'2ND_CROP_BY_1ST_CROP'!$F$2:$F$95,AGRICULTURE_USE_2ND_CROP!$F2,'2ND_CROP_BY_1ST_CROP'!$D$2:$D$95,AGRICULTURE_USE_2ND_CROP!$D2,'2ND_CROP_BY_1ST_CROP'!$B$2:$B$95,AGRICULTURE_USE_2ND_CROP!$B2) -> 1489.3017
A3: Brasil | B3: Caatinga | C3: Sudeste | D3: Minas Gerais | E3: Área de Aplicação da Lei da Mata Atlântica, 1:1.000.000 | F3: 41 | G3: Outras culturas de segunda safra | H3: v1.1 | I3: 11 | J3: =SUMIFS('2ND_CROP_BY_1ST_CROP'!L$2:L$95,'2ND_CROP_BY_1ST_CROP'!$F$2:$F$95,AGRICULTURE_USE_2ND_CROP!$F3,'2ND_CROP_BY_1ST_CROP'!$D$2:$D$95,AGRICULTURE_USE_2ND_CROP!$D3,'2ND_CROP_BY_1ST_CROP'!$B$2:$B$95,AGRICULTURE_USE_2ND_CROP!$B3) -> 1990.8627 | K3: =SUMIFS('2ND_CROP_BY_1ST_CROP'!M$2:M$95,'2ND_CROP_BY_1ST_CROP'!$F$2:$F$95,AGRICULTURE_USE_2ND_CROP!$F3,'2ND_CROP_BY_1ST_CROP'!$D$2:$D$95,AGRICULTURE_USE_2ND_CROP!$D3,'2ND_CROP_BY_1ST_CROP'!$B$2:$B$95,AGRICULTURE_USE_2ND_CROP!$B3) -> 2231.0262 | L3: =SUMIFS('2ND_CROP_BY_1ST_CROP'!N$2:N$95,'2ND_CROP_BY_1ST_CROP'!$F$2:$F$95,AGRICULTURE_USE_2ND_CROP!$F3,'2ND_CROP_BY_1ST_CROP'!$D$2:$D$95,AGRICULTURE_USE_2ND_CROP!$D3,'2ND_CROP_BY_1ST_CROP'!$B$2:$B$95,AGRICULTURE_USE_2ND_CROP!$B3) -> 2284.9213 | M3: =SUMIFS('2ND_CROP_BY_1ST_CROP'!O$2:O$95,'2ND_CROP_BY_1ST_CROP'!$F$2:$F$95,AGRICULTURE_USE_2ND_CROP!$F3,'2ND_CROP_BY_1ST_CROP'!$D$2:$D$95,AGRICULTURE_USE_2ND_CROP!$D3,'2ND_CROP_BY_1ST_CROP'!$B$2:$B$95,AGRICULTURE_USE_2ND_CROP!$B3) -> 2184.0433 | N3: =SUMIFS('2ND_CROP_BY_1ST_CROP'!P$2:P$95,'2ND_CROP_BY_1ST_CROP'!$F$2:$F$95,AGRICULTURE_USE_2ND_CROP!$F3,'2ND_CROP_BY_1ST_CROP'!$D$2:$D$95,AGRICULTURE_USE_2ND_CROP!$D3,'2ND_CROP_BY_1ST_CROP'!$B$2:$B$95,AGRICULTURE_USE_2ND_CROP!$B3) -> 2115.2788 | O3: =SUMIFS('2ND_CROP_BY_1ST_CROP'!Q$2:Q$95,'2ND_CROP_BY_1ST_CROP'!$F$2:$F$95,AGRICULTURE_USE_2ND_CROP!$F3,'2ND_CROP_BY_1ST_CROP'!$D$2:$D$95,AGRICULTURE_USE_2ND_CROP!$D3,'2ND_CROP_BY_1ST_CROP'!$B$2:$B$95,AGRICULTURE_USE_2ND_CROP!$B3) -> 2394.0011 | P3: =SUMIFS('2ND_CROP_BY_1ST_CROP'!R$2:R$95,'2ND_CROP_BY_1ST_CROP'!$F$2:$F$95,AGRICULTURE_USE_2ND_CROP!$F3,'2ND_CROP_BY_1ST_CROP'!$D$2:$D$95,AGRICULTURE_USE_2ND_CROP!$D3,'2ND_CROP_BY_1ST_CROP'!$B$2:$B$95,AGRICULTURE_USE_2ND_CROP!$B3) -> 2479.789 | Q3: =SUMIFS('2ND_CROP_BY_1ST_CROP'!S$2:S$95,'2ND_CROP_BY_1ST_CROP'!$F$2:$F$95,AGRICULTURE_USE_2ND_CROP!$F3,'2ND_CROP_BY_1ST_CROP'!$D$2:$D$95,AGRICULTURE_USE_2ND_CROP!$D3,'2ND_CROP_BY_1ST_CROP'!$B$2:$B$95,AGRICULTURE_USE_2ND_CROP!$B3) -> 2872.1033 | ... AI3: =SUMIFS('2ND_CROP_BY_1ST_CROP'!AK$2:AK$95,'2ND_CROP_BY_1ST_CROP'!$F$2:$F$95,AGRICULTURE_USE_2ND_CROP!$F3,'2ND_CROP_BY_1ST_CROP'!$D$2:$D$95,AGRICULTURE_USE_2ND_CROP!$D3,'2ND_CROP_BY_1ST_CROP'!$B$2:$B$95,AGRICULTURE_USE_2ND_CROP!$B3) -> 4854.8255
A4: Brasil | B4: Caatinga | C4: Sudeste | D4: Minas Gerais | E4: Área de Aplicação da Lei da Mata Atlântica, 1:1.000.000 | F4: 62 | G4: Algodão de segunda safra | H4: v1.1 | I4: 11 | J4: =SUMIFS('2ND_CROP_BY_1ST_CROP'!L$2:L$95,'2ND_CROP_BY_1ST_CROP'!$F$2:$F$95,AGRICULTURE_USE_2ND_CROP!$F4,'2ND_CROP_BY_1ST_CROP'!$D$2:$D$95,AGRICULTURE_USE_2ND_CROP!$D4,'2ND_CROP_BY_1ST_CROP'!$B$2:$B$95,AGRICULTURE_USE_2ND_CROP!$B4) -> 0.69363549 | K4: =SUMIFS('2ND_CROP_BY_1ST_CROP'!M$2:M$95,'2ND_CROP_BY_1ST_CROP'!$F$2:$F$95,AGRICULTURE_USE_2ND_CROP!$F4,'2ND_CROP_BY_1ST_CROP'!$D$2:$D$95,AGRICULTURE_USE_2ND_CROP!$D4,'2ND_CROP_BY_1ST_CROP'!$B$2:$B$95,AGRICULTURE_USE_2ND_CROP!$B4) -> 0.43348776 | L4: =SUMIFS('2ND_CROP_BY_1ST_CROP'!N$2:N$95,'2ND_CROP_BY_1ST_CROP'!$F$2:$F$95,AGRICULTURE_USE_2ND_CROP!$F4,'2ND_CROP_BY_1ST_CROP'!$D$2:$D$95,AGRICULTURE_USE_2ND_CROP!$D4,'2ND_CROP_BY_1ST_CROP'!$B$2:$B$95,AGRICULTURE_USE_2ND_CROP!$B4) -> 0.086715973 | M4: =SUMIFS('2ND_CROP_BY_1ST_CROP'!O$2:O$95,'2ND_CROP_BY_1ST_CROP'!$F$2:$F$95,AGRICULTURE_USE_2ND_CROP!$F4,'2ND_CROP_BY_1ST_CROP'!$D$2:$D$95,AGRICULTURE_USE_2ND_CROP!$D4,'2ND_CROP_BY_1ST_CROP'!$B$2:$B$95,AGRICULTURE_USE_2ND_CROP!$B4) -> 0.086715973 | N4: =SUMIFS('2ND_CROP_BY_1ST_CROP'!P$2:P$95,'2ND_CROP_BY_1ST_CROP'!$F$2:$F$95,AGRICULTURE_USE_2ND_CROP!$F4,'2ND_CROP_BY_1ST_CROP'!$D$2:$D$95,AGRICULTURE_USE_2ND_CROP!$D4,'2ND_CROP_BY_1ST_CROP'!$B$2:$B$95,AGRICULTURE_USE_2ND_CROP!$B4) -> 0.086715973 | O4: =SUMIFS('2ND_CROP_BY_1ST_CROP'!Q$2:Q$95,'2ND_CROP_BY_1ST_CROP'!$F$2:$F$95,AGRICULTURE_USE_2ND_CROP!$F4,'2ND_CROP_BY_1ST_CROP'!$D$2:$D$95,AGRICULTURE_USE_2ND_CROP!$D4,'2ND_CROP_BY_1ST_CROP'!$B$2:$B$95,AGRICULTURE_USE_2ND_CROP!$B4) -> 0.086715973 | P4: =SUMIFS('2ND_CROP_BY_1ST_CROP'!R$2:R$95,'2ND_CROP_BY_1ST_CROP'!$F$2:$F$95,AGRICULTURE_USE_2ND_CROP!$F4,'2ND_CROP_BY_1ST_CROP'!$D$2:$D$95,AGRICULTURE_USE_2ND_CROP!$D4,'2ND_CROP_BY_1ST_CROP'!$B$2:$B$95,AGRICULTURE_USE_2ND_CROP!$B4) -> 0.086715973 | Q4: =SUMIFS('2ND_CROP_BY_1ST_CROP'!S$2:S$95,'2ND_CROP_BY_1ST_CROP'!$F$2:$F$95,AGRICULTURE_USE_2ND_CROP!$F4,'2ND_CROP_BY_1ST_CROP'!$D$2:$D$95,AGRICULTURE_USE_2ND_CROP!$D4,'2ND_CROP_BY_1ST_CROP'!$B$2:$B$95,AGRICULTURE_USE_2ND_CROP!$B4) -> 0.086715973 | ... AI4: =SUMIFS('2ND_CROP_BY_1ST_CROP'!AK$2:AK$95,'2ND_CROP_BY_1ST_CROP'!$F$2:$F$95,AGRICULTURE_USE_2ND_CROP!$F4,'2ND_CROP_BY_1ST_CROP'!$D$2:$D$95,AGRICULTURE_USE_2ND_CROP!$D4,'2ND_CROP_BY_1ST_CROP'!$B$2:$B$95,AGRICULTURE_USE_2ND_CROP!$B4) -> 0
A5: Brasil | B5: Caatinga | C5: Nordeste | D5: Bahia | E5: Área de Aplicação da Lei da Mata Atlântica, 1:1.000.000 | F5: 1 | G5: Milho de segunda safra | H5: v1.1 | I5: 11 | J5: =SUMIFS('2ND_CROP_BY_1ST_CROP'!L$2:L$95,'2ND_CROP_BY_1ST_CROP'!$F$2:$F$95,AGRICULTURE_USE_2ND_CROP!$F5,'2ND_CROP_BY_1ST_CROP'!$D$2:$D$95,AGRICULTURE_USE_2ND_CROP!$D5,'2ND_CROP_BY_1ST_CROP'!$B$2:$B$95,AGRICULTURE_USE_2ND_CROP!$B5) -> 221.07224 | K5: =SUMIFS('2ND_CROP_BY_1ST_CROP'!M$2:M$95,'2ND_CROP_BY_1ST_CROP'!$F$2:$F$95,AGRICULTURE_USE_2ND_CROP!$F5,'2ND_CROP_BY_1ST_CROP'!$D$2:$D$95,AGRICULTURE_USE_2ND_CROP!$D5,'2ND_CROP_BY_1ST_CROP'!$B$2:$B$95,AGRICULTURE_USE_2ND_CROP!$B5) -> 465.78287 | L5: =SUMIFS('2ND_CROP_BY_1ST_CROP'!N$2:N$95,'2ND_CROP_BY_1ST_CROP'!$F$2:$F$95,AGRICULTURE_USE_2ND_CROP!$F5,'2ND_CROP_BY_1ST_CROP'!$D$2:$D$95,AGRICULTURE_USE_2ND_CROP!$D5,'2ND_CROP_BY_1ST_CROP'!$B$2:$B$95,AGRICULTURE_USE_2ND_CROP!$B5) -> 421.31553 | M5: =SUMIFS('2ND_CROP_BY_1ST_CROP'!O$2:O$95,'2ND_CROP_BY_1ST_CROP'!$F$2:$F$95,AGRICULTURE_USE_2ND_CROP!$F5,'2ND_CROP_BY_1ST_CROP'!$D$2:$D$95,AGRICULTURE_USE_2ND_CROP!$D5,'2ND_CROP_BY_1ST_CROP'!$B$2:$B$95,AGRICULTURE_USE_2ND_CROP!$B5) -> 156.96893 | N5: =SUMIFS('2ND_CROP_BY_1ST_CROP'!P$2:P$95,'2ND_CROP_BY_1ST_CROP'!$F$2:$F$95,AGRICULTURE_USE_2ND_CROP!$F5,'2ND_CROP_BY_1ST_CROP'!$D$2:$D$95,AGRICULTURE_USE_2ND_CROP!$D5,'2ND_CROP_BY_1ST_CROP'!$B$2:$B$95,AGRICULTURE_USE_2ND_CROP!$B5) -> 166.53027 | O5: =SUMIFS('2ND_CROP_BY_1ST_CROP'!Q$2:Q$95,'2ND_CROP_BY_1ST_CROP'!$F$2:$F$95,AGRICULTURE_USE_2ND_CROP!$F5,'2ND_CROP_BY_1ST_CROP'!$D$2:$D$95,AGRICULTURE_USE_2ND_CROP!$D5,'2ND_CROP_BY_1ST_CROP'!$B$2:$B$95,AGRICULTURE_USE_2ND_CROP!$B5) -> 269.5702 | P5: =SUMIFS('2ND_CROP_BY_1ST_CROP'!R$2:R$95,'2ND_CROP_BY_1ST_CROP'!$F$2:$F$95,AGRICULTURE_USE_2ND_CROP!$F5,'2ND_CROP_BY_1ST_CROP'!$D$2:$D$95,AGRICULTURE_USE_2ND_CROP!$D5,'2ND_CROP_BY_1ST_CROP'!$B$2:$B$95,AGRICULTURE_USE_2ND_CROP!$B5) -> 128.46324 | Q5: =SUMIFS('2ND_CROP_BY_1ST_CROP'!S$2:S$95,'2ND_CROP_BY_1ST_CROP'!$F$2:$F$95,AGRICULTURE_USE_2ND_CROP!$F5,'2ND_CROP_BY_1ST_CROP'!$D$2:$D$95,AGRICULTURE_USE_2ND_CROP!$D5,'2ND_CROP_BY_1ST_CROP'!$B$2:$B$95,AGRICULTURE_USE_2ND_CROP!$B5) -> 172.7319 | ... AI5: =SUMIFS('2ND_CROP_BY_1ST_CROP'!AK$2:AK$95,'2ND_CROP_BY_1ST_CROP'!$F$2:$F$95,AGRICULTURE_USE_2ND_CROP!$F5,'2ND_CROP_BY_1ST_CROP'!$D$2:$D$95,AGRICULTURE_USE_2ND_CROP!$D5,'2ND_CROP_BY_1ST_CROP'!$B$2:$B$95,AGRICULTURE_USE_2ND_CROP!$B5) -> 2980.1386
A6: Brasil | B6: Caatinga | C6: Nordeste | D6: Bahia | E6: Área de Aplicação da Lei da Mata Atlântica, 1:1.000.000 | F6: 41 | G6: Outras culturas de segunda safra | H6: v1.1 | I6: 11 | J6: =SUMIFS('2ND_CROP_BY_1ST_CROP'!L$2:L$95,'2ND_CROP_BY_1ST_CROP'!$F$2:$F$95,AGRICULTURE_USE_2ND_CROP!$F6,'2ND_CROP_BY_1ST_CROP'!$D$2:$D$95,AGRICULTURE_USE_2ND_CROP!$D6,'2ND_CROP_BY_1ST_CROP'!$B$2:$B$95,AGRICULTURE_USE_2ND_CROP!$B6) -> 1279.0284 | K6: =SUMIFS('2ND_CROP_BY_1ST_CROP'!M$2:M$95,'2ND_CROP_BY_1ST_CROP'!$F$2:$F$95,AGRICULTURE_USE_2ND_CROP!$F6,'2ND_CROP_BY_1ST_CROP'!$D$2:$D$95,AGRICULTURE_USE_2ND_CROP!$D6,'2ND_CROP_BY_1ST_CROP'!$B$2:$B$95,AGRICULTURE_USE_2ND_CROP!$B6) -> 1519.0084 | L6: =SUMIFS('2ND_CROP_BY_1ST_CROP'!N$2:N$95,'2ND_CROP_BY_1ST_CROP'!$F$2:$F$95,AGRICULTURE_USE_2ND_CROP!$F6,'2ND_CROP_BY_1ST_CROP'!$D$2:$D$95,AGRICULTURE_USE_2ND_CROP!$D6,'2ND_CROP_BY_1ST_CROP'!$B$2:$B$95,AGRICULTURE_USE_2ND_CROP!$B6) -> 1437.5127 | M6: =SUMIFS('2ND_CROP_BY_1ST_CROP'!O$2:O$95,'2ND_CROP_BY_1ST_CROP'!$F$2:$F$95,AGRICULTURE_USE_2ND_CROP!$F6,'2ND_CROP_BY_1ST_CROP'!$D$2:$D$95,AGRICULTURE_USE_2ND_CROP!$D6,'2ND_CROP_BY_1ST_CROP'!$B$2:$B$95,AGRICULTURE_USE_2ND_CROP!$B6) -> 1950.9985 | N6: =SUMIFS('2ND_CROP_BY_1ST_CROP'!P$2:P$95,'2ND_CROP_BY_1ST_CROP'!$F$2:$F$95,AGRICULTURE_USE_2ND_CROP!$F6,'2ND_CROP_BY_1ST_CROP'!$D$2:$D$95,AGRICULTURE_USE_2ND_CROP!$D6,'2ND_CROP_BY_1ST_CROP'!$B$2:$B$95,AGRICULTURE_USE_2ND_CROP!$B6) -> 2030.7894 | O6: =SUMIFS('2ND_CROP_BY_1ST_CROP'!Q$2:Q$95,'2ND_CROP_BY_1ST_CROP'!$F$2:$F$95,AGRICULTURE_USE_2ND_CROP!$F6,'2ND_CROP_BY_1ST_CROP'!$D$2:$D$95,AGRICULTURE_USE_2ND_CROP!$D6,'2ND_CROP_BY_1ST_CROP'!$B$2:$B$95,AGRICULTURE_USE_2ND_CROP!$B6) -> 2036.8903 | P6: =SUMIFS('2ND_CROP_BY_1ST_CROP'!R$2:R$95,'2ND_CROP_BY_1ST_CROP'!$F$2:$F$95,AGRICULTURE_USE_2ND_CROP!$F6,'2ND_CROP_BY_1ST_CROP'!$D$2:$D$95,AGRICULTURE_USE_2ND_CROP!$D6,'2ND_CROP_BY_1ST_CROP'!$B$2:$B$95,AGRICULTURE_USE_2ND_CROP!$B6) -> 2225.3024 | Q6: =SUMIFS('2ND_CROP_BY_1ST_CROP'!S$2:S$95,'2ND_CROP_BY_1ST_CROP'!$F$2:$F$95,AGRICULTURE_USE_2ND_CROP!$F6,'2ND_CROP_BY_1ST_CROP'!$D$2:$D$95,AGRICULTURE_USE_2ND_CROP!$D6,'2ND_CROP_BY_1ST_CROP'!$B$2:$B$95,AGRICULTURE_USE_2ND_CROP!$B6) -> 2159.5927 | ... AI6: =SUMIFS('2ND_CROP_BY_1ST_CROP'!AK$2:AK$95,'2ND_CROP_BY_1ST_CROP'!$F$2:$F$95,AGRICULTURE_USE_2ND_CROP!$F6,'2ND_CROP_BY_1ST_CROP'!$D$2:$D$95,AGRICULTURE_USE_2ND_CROP!$D6,'2ND_CROP_BY_1ST_CROP'!$B$2:$B$95,AGRICULTURE_USE_2ND_CROP!$B6) -> 1564.5365
A7: Brasil | B7: Caatinga | C7: Nordeste | D7: Bahia | E7: Área de Aplicação da Lei da Mata Atlântica, 1:1.000.000 | F7: 62 | G7: Algodão de segunda safra | H7: v1.1 | I7: 11 | J7: =SUMIFS('2ND_CROP_BY_1ST_CROP'!L$2:L$95,'2ND_CROP_BY_1ST_CROP'!$F$2:$F$95,AGRICULTURE_USE_2ND_CROP!$F7,'2ND_CROP_BY_1ST_CROP'!$D$2:$D$95,AGRICULTURE_USE_2ND_CROP!$D7,'2ND_CROP_BY_1ST_CROP'!$B$2:$B$95,AGRICULTURE_USE_2ND_CROP!$B7) -> 91.800389 | K7: =SUMIFS('2ND_CROP_BY_1ST_CROP'!M$2:M$95,'2ND_CROP_BY_1ST_CROP'!$F$2:$F$95,AGRICULTURE_USE_2ND_CROP!$F7,'2ND_CROP_BY_1ST_CROP'!$D$2:$D$95,AGRICULTURE_USE_2ND_CROP!$D7,'2ND_CROP_BY_1ST_CROP'!$B$2:$B$95,AGRICULTURE_USE_2ND_CROP!$B7) -> 585.46988 | L7: =SUMIFS('2ND_CROP_BY_1ST_CROP'!N$2:N$95,'2ND_CROP_BY_1ST_CROP'!$F$2:$F$95,AGRICULTURE_USE_2ND_CROP!$F7,'2ND_CROP_BY_1ST_CROP'!$D$2:$D$95,AGRICULTURE_USE_2ND_CROP!$D7,'2ND_CROP_BY_1ST_CROP'!$B$2:$B$95,AGRICULTURE_USE_2ND_CROP!$B7) -> 555.73976 | M7: =SUMIFS('2ND_CROP_BY_1ST_CROP'!O$2:O$95,'2ND_CROP_BY_1ST_CROP'!$F$2:$F$95,AGRICULTURE_USE_2ND_CROP!$F7,'2ND_CROP_BY_1ST_CROP'!$D$2:$D$95,AGRICULTURE_USE_2ND_CROP!$D7,'2ND_CROP_BY_1ST_CROP'!$B$2:$B$95,AGRICULTURE_USE_2ND_CROP!$B7) -> 541.82283 | N7: =SUMIFS('2ND_CROP_BY_1ST_CROP'!P$2:P$95,'2ND_CROP_BY_1ST_CROP'!$F$2:$F$95,AGRICULTURE_USE_2ND_CROP!$F7,'2ND_CROP_BY_1ST_CROP'!$D$2:$D$95,AGRICULTURE_USE_2ND_CROP!$D7,'2ND_CROP_BY_1ST_CROP'!$B$2:$B$95,AGRICULTURE_USE_2ND_CROP!$B7) -> 429.76066 | O7: =SUMIFS('2ND_CROP_BY_1ST_CROP'!Q$2:Q$95,'2ND_CROP_BY_1ST_CROP'!$F$2:$F$95,AGRICULTURE_USE_2ND_CROP!$F7,'2ND_CROP_BY_1ST_CROP'!$D$2:$D$95,AGRICULTURE_USE_2ND_CROP!$D7,'2ND_CROP_BY_1ST_CROP'!$B$2:$B$95,AGRICULTURE_USE_2ND_CROP!$B7) -> 258.41703 | P7: =SUMIFS('2ND_CROP_BY_1ST_CROP'!R$2:R$95,'2ND_CROP_BY_1ST_CROP'!$F$2:$F$95,AGRICULTURE_USE_2ND_CROP!$F7,'2ND_CROP_BY_1ST_CROP'!$D$2:$D$95,AGRICULTURE_USE_2ND_CROP!$D7,'2ND_CROP_BY_1ST_CROP'!$B$2:$B$95,AGRICULTURE_USE_2ND_CROP!$B7) -> 137.87797 | Q7: =SUMIFS('2ND_CROP_BY_1ST_CROP'!S$2:S$95,'2ND_CROP_BY_1ST_CROP'!$F$2:$F$95,AGRICULTURE_USE_2ND_CROP!$F7,'2ND_CROP_BY_1ST_CROP'!$D$2:$D$95,AGRICULTURE_USE_2ND_CROP!$D7,'2ND_CROP_BY_1ST_CROP'!$B$2:$B$95,AGRICULTURE_USE_2ND_CROP!$B7) -> 156.90785 | ... AI7: =SUMIFS('2ND_CROP_BY_1ST_CROP'!AK$2:AK$95,'2ND_CROP_BY_1ST_CROP'!$F$2:$F$95,AGRICULTURE_USE_2ND_CROP!$F7,'2ND_CROP_BY_1ST_CROP'!$D$2:$D$95,AGRICULTURE_USE_2ND_CROP!$D7,'2ND_CROP_BY_1ST_CROP'!$B$2:$B$95,AGRICULTURE_USE_2ND_CROP!$B7) -> 734.13981
A8: Brasil | B8: Caatinga | C8: Nordeste | D8: Piauí | E8: Área de Aplicação da Lei da Mata Atlântica, 1:1.000.000 | F8: 1 | G8: Milho de segunda safra | H8: v1.1 | I8: 11 | J8: =SUMIFS('2ND_CROP_BY_1ST_CROP'!L$2:L$95,'2ND_CROP_BY_1ST_CROP'!$F$2:$F$95,AGRICULTURE_USE_2ND_CROP!$F8,'2ND_CROP_BY_1ST_CROP'!$D$2:$D$95,AGRICULTURE_USE_2ND_CROP!$D8,'2ND_CROP_BY_1ST_CROP'!$B$2:$B$95,AGRICULTURE_USE_2ND_CROP!$B8) -> 3.34493 | K8: =SUMIFS('2ND_CROP_BY_1ST_CROP'!M$2:M$95,'2ND_CROP_BY_1ST_CROP'!$F$2:$F$95,AGRICULTURE_USE_2ND_CROP!$F8,'2ND_CROP_BY_1ST_CROP'!$D$2:$D$95,AGRICULTURE_USE_2ND_CROP!$D8,'2ND_CROP_BY_1ST_CROP'!$B$2:$B$95,AGRICULTURE_USE_2ND_CROP!$B8) -> 14.748423 | L8: =SUMIFS('2ND_CROP_BY_1ST_CROP'!N$2:N$95,'2ND_CROP_BY_1ST_CROP'!$F$2:$F$95,AGRICULTURE_USE_2ND_CROP!$F8,'2ND_CROP_BY_1ST_CROP'!$D$2:$D$95,AGRICULTURE_USE_2ND_CROP!$D8,'2ND_CROP_BY_1ST_CROP'!$B$2:$B$95,AGRICULTURE_USE_2ND_CROP!$B8) -> 15.020891 | M8: =SUMIFS('2ND_CROP_BY_1ST_CROP'!O$2:O$95,'2ND_CROP_BY_1ST_CROP'!$F$2:$F$95,AGRICULTURE_USE_2ND_CROP!$F8,'2ND_CROP_BY_1ST_CROP'!$D$2:$D$95,AGRICULTURE_USE_2ND_CROP!$D8,'2ND_CROP_BY_1ST_CROP'!$B$2:$B$95,AGRICULTURE_USE_2ND_CROP!$B8) -> 7.3405662 | N8: =SUMIFS('2ND_CROP_BY_1ST_CROP'!P$2:P$95,'2ND_CROP_BY_1ST_CROP'!$F$2:$F$95,AGRICULTURE_USE_2ND_CROP!$F8,'2ND_CROP_BY_1ST_CROP'!$D$2:$D$95,AGRICULTURE_USE_2ND_CROP!$D8,'2ND_CROP_BY_1ST_CROP'!$B$2:$B$95,AGRICULTURE_USE_2ND_CROP!$B8) -> 0.79260922 | O8: =SUMIFS('2ND_CROP_BY_1ST_CROP'!Q$2:Q$95,'2ND_CROP_BY_1ST_CROP'!$F$2:$F$95,AGRICULTURE_USE_2ND_CROP!$F8,'2ND_CROP_BY_1ST_CROP'!$D$2:$D$95,AGRICULTURE_USE_2ND_CROP!$D8,'2ND_CROP_BY_1ST_CROP'!$B$2:$B$95,AGRICULTURE_USE_2ND_CROP!$B8) -> 2.2077198 | P8: =SUMIFS('2ND_CROP_BY_1ST_CROP'!R$2:R$95,'2ND_CROP_BY_1ST_CROP'!$F$2:$F$95,AGRICULTURE_USE_2ND_CROP!$F8,'2ND_CROP_BY_1ST_CROP'!$D$2:$D$95,AGRICULTURE_USE_2ND_CROP!$D8,'2ND_CROP_BY_1ST_CROP'!$B$2:$B$95,AGRICULTURE_USE_2ND_CROP!$B8) -> 5.5513722 | Q8: =SUMIFS('2ND_CROP_BY_1ST_CROP'!S$2:S$95,'2ND_CROP_BY_1ST_CROP'!$F$2:$F$95,AGRICULTURE_USE_2ND_CROP!$F8,'2ND_CROP_BY_1ST_CROP'!$D$2:$D$95,AGRICULTURE_USE_2ND_CROP!$D8,'2ND_CROP_BY_1ST_CROP'!$B$2:$B$95,AGRICULTURE_USE_2ND_CROP!$B8) -> 4.143289 | ... AI8: =SUMIFS('2ND_CROP_BY_1ST_CROP'!AK$2:AK$95,'2ND_CROP_BY_1ST_CROP'!$F$2:$F$95,AGRICULTURE_USE_2ND_CROP!$F8,'2ND_CROP_BY_1ST_CROP'!$D$2:$D$95,AGRICULTURE_USE_2ND_CROP!$D8,'2ND_CROP_BY_1ST_CROP'!$B$2:$B$95,AGRICULTURE_USE_2ND_CROP!$B8) -> 311.87827
A9: Brasil | B9: Caatinga | C9: Nordeste | D9: Piauí | E9: Área de Aplicação da Lei da Mata Atlântica, 1:1.000.000 | F9: 41 | G9: Outras culturas de segunda safra | H9: v1.1 | I9: 11 | J9: =SUMIFS('2ND_CROP_BY_1ST_CROP'!L$2:L$95,'2ND_CROP_BY_1ST_CROP'!$F$2:$F$95,AGRICULTURE_USE_2ND_CROP!$F9,'2ND_CROP_BY_1ST_CROP'!$D$2:$D$95,AGRICULTURE_USE_2ND_CROP!$D9,'2ND_CROP_BY_1ST_CROP'!$B$2:$B$95,AGRICULTURE_USE_2ND_CROP!$B9) -> 0 | K9: =SUMIFS('2ND_CROP_BY_1ST_CROP'!M$2:M$95,'2ND_CROP_BY_1ST_CROP'!$F$2:$F$95,AGRICULTURE_USE_2ND_CROP!$F9,'2ND_CROP_BY_1ST_CROP'!$D$2:$D$95,AGRICULTURE_USE_2ND_CROP!$D9,'2ND_CROP_BY_1ST_CROP'!$B$2:$B$95,AGRICULTURE_USE_2ND_CROP!$B9) -> 0 | L9: =SUMIFS('2ND_CROP_BY_1ST_CROP'!N$2:N$95,'2ND_CROP_BY_1ST_CROP'!$F$2:$F$95,AGRICULTURE_USE_2ND_CROP!$F9,'2ND_CROP_BY_1ST_CROP'!$D$2:$D$95,AGRICULTURE_USE_2ND_CROP!$D9,'2ND_CROP_BY_1ST_CROP'!$B$2:$B$95,AGRICULTURE_USE_2ND_CROP!$B9) -> 0 | M9: =SUMIFS('2ND_CROP_BY_1ST_CROP'!O$2:O$95,'2ND_CROP_BY_1ST_CROP'!$F$2:$F$95,AGRICULTURE_USE_2ND_CROP!$F9,'2ND_CROP_BY_1ST_CROP'!$D$2:$D$95,AGRICULTURE_USE_2ND_CROP!$D9,'2ND_CROP_BY_1ST_CROP'!$B$2:$B$95,AGRICULTURE_USE_2ND_CROP!$B9) -> 0 | N9: =SUMIFS('2ND_CROP_BY_1ST_CROP'!P$2:P$95,'2ND_CROP_BY_1ST_CROP'!$F$2:$F$95,AGRICULTURE_USE_2ND_CROP!$F9,'2ND_CROP_BY_1ST_CROP'!$D$2:$D$95,AGRICULTURE_USE_2ND_CROP!$D9,'2ND_CROP_BY_1ST_CROP'!$B$2:$B$95,AGRICULTURE_USE_2ND_CROP!$B9) -> 0 | O9: =SUMIFS('2ND_CROP_BY_1ST_CROP'!Q$2:Q$95,'2ND_CROP_BY_1ST_CROP'!$F$2:$F$95,AGRICULTURE_USE_2ND_CROP!$F9,'2ND_CROP_BY_1ST_CROP'!$D$2:$D$95,AGRICULTURE_USE_2ND_CROP!$D9,'2ND_CROP_BY_1ST_CROP'!$B$2:$B$95,AGRICULTURE_USE_2ND_CROP!$B9) -> 0 | P9: =SUMIFS('2ND_CROP_BY_1ST_CROP'!R$2:R$95,'2ND_CROP_BY_1ST_CROP'!$F$2:$F$95,AGRICULTURE_USE_2ND_CROP!$F9,'2ND_CROP_BY_1ST_CROP'!$D$2:$D$95,AGRICULTURE_USE_2ND_CROP!$D9,'2ND_CROP_BY_1ST_CROP'!$B$2:$B$95,AGRICULTURE_USE_2ND_CROP!$B9) -> 0 | Q9: =SUMIFS('2ND_CROP_BY_1ST_CROP'!S$2:S$95,'2ND_CROP_BY_1ST_CROP'!$F$2:$F$95,AGRICULTURE_USE_2ND_CROP!$F9,'2ND_CROP_BY_1ST_CROP'!$D$2:$D$95,AGRICULTURE_USE_2ND_CROP!$D9,'2ND_CROP_BY_1ST_CROP'!$B$2:$B$95,AGRICULTURE_USE_2ND_CROP!$B9) -> 0 | ... AI9: =SUMIFS('2ND_CROP_BY_1ST_CROP'!AK$2:AK$95,'2ND_CROP_BY_1ST_CROP'!$F$2:$F$95,AGRICULTURE_USE_2ND_CROP!$F9,'2ND_CROP_BY_1ST_CROP'!$D$2:$D$95,AGRICULTURE_USE_2ND_CROP!$D9,'2ND_CROP_BY_1ST_CROP'!$B$2:$B$95,AGRICULTURE_USE_2ND_CROP!$B9) -> 275.64827
A10: Brasil | B10: Cerrado | C10: Sudeste | D10: São Paulo | E10: Área de Aplicação da Lei da Mata Atlântica, 1:1.000.000 | F10: 1 | G10: Milho de segunda safra | H10: v1.1 | I10: 11 | J10: =SUMIFS('2ND_CROP_BY_1ST_CROP'!L$2:L$95,'2ND_CROP_BY_1ST_CROP'!$F$2:$F$95,AGRICULTURE_USE_2ND_CROP!$F10,'2ND_CROP_BY_1ST_CROP'!$D$2:$D$95,AGRICULTURE_USE_2ND_CROP!$D10,'2ND_CROP_BY_1ST_CROP'!$B$2:$B$95,AGRICULTURE_USE_2ND_CROP!$B10) -> 1068.3439 | K10: =SUMIFS('2ND_CROP_BY_1ST_CROP'!M$2:M$95,'2ND_CROP_BY_1ST_CROP'!$F$2:$F$95,AGRICULTURE_USE_2ND_CROP!$F10,'2ND_CROP_BY_1ST_CROP'!$D$2:$D$95,AGRICULTURE_USE_2ND_CROP!$D10,'2ND_CROP_BY_1ST_CROP'!$B$2:$B$95,AGRICULTURE_USE_2ND_CROP!$B10) -> 4423.9004 | L10: =SUMIFS('2ND_CROP_BY_1ST_CROP'!N$2:N$95,'2ND_CROP_BY_1ST_CROP'!$F$2:$F$95,AGRICULTURE_USE_2ND_CROP!$F10,'2ND_CROP_BY_1ST_CROP'!$D$2:$D$95,AGRICULTURE_USE_2ND_CROP!$D10,'2ND_CROP_BY_1ST_CROP'!$B$2:$B$95,AGRICULTURE_USE_2ND_CROP!$B10) -> 5502.484 | M10: =SUMIFS('2ND_CROP_BY_1ST_CROP'!O$2:O$95,'2ND_CROP_BY_1ST_CROP'!$F$2:$F$95,AGRICULTURE_USE_2ND_CROP!$F10,'2ND_CROP_BY_1ST_CROP'!$D$2:$D$95,AGRICULTURE_USE_2ND_CROP!$D10,'2ND_CROP_BY_1ST_CROP'!$B$2:$B$95,AGRICULTURE_USE_2ND_CROP!$B10) -> 5283.8585 | N10: =SUMIFS('2ND_CROP_BY_1ST_CROP'!P$2:P$95,'2ND_CROP_BY_1ST_CROP'!$F$2:$F$95,AGRICULTURE_USE_2ND_CROP!$F10,'2ND_CROP_BY_1ST_CROP'!$D$2:$D$95,AGRICULTURE_USE_2ND_CROP!$D10,'2ND_CROP_BY_1ST_CROP'!$B$2:$B$95,AGRICULTURE_USE_2ND_CROP!$B10) -> 4690.9977 | O10: =SUMIFS('2ND_CROP_BY_1ST_CROP'!Q$2:Q$95,'2ND_CROP_BY_1ST_CROP'!$F$2:$F$95,AGRICULTURE_USE_2ND_CROP!$F10,'2ND_CROP_BY_1ST_CROP'!$D$2:$D$95,AGRICULTURE_USE_2ND_CROP!$D10,'2ND_CROP_BY_1ST_CROP'!$B$2:$B$95,AGRICULTURE_USE_2ND_CROP!$B10) -> 3989.3159 | P10: =SUMIFS('2ND_CROP_BY_1ST_CROP'!R$2:R$95,'2ND_CROP_BY_1ST_CROP'!$F$2:$F$95,AGRICULTURE_USE_2ND_CROP!$F10,'2ND_CROP_BY_1ST_CROP'!$D$2:$D$95,AGRICULTURE_USE_2ND_CROP!$D10,'2ND_CROP_BY_1ST_CROP'!$B$2:$B$95,AGRICULTURE_USE_2ND_CROP!$B10) -> 2753.2825 | Q10: =SUMIFS('2ND_CROP_BY_1ST_CROP'!S$2:S$95,'2ND_CROP_BY_1ST_CROP'!$F$2:$F$95,AGRICULTURE_USE_2ND_CROP!$F10,'2ND_CROP_BY_1ST_CROP'!$D$2:$D$95,AGRICULTURE_USE_2ND_CROP!$D10,'2ND_CROP_BY_1ST_CROP'!$B$2:$B$95,AGRICULTURE_USE_2ND_CROP!$B10) -> 3745.9778 | ... AI10: =SUMIFS('2ND_CROP_BY_1ST_CROP'!AK$2:AK$95,'2ND_CROP_BY_1ST_CROP'!$F$2:$F$95,AGRICULTURE_USE_2ND_CROP!$F10,'2ND_CROP_BY_1ST_CROP'!$D$2:$D$95,AGRICULTURE_USE_2ND_CROP!$D10,'2ND_CROP_BY_1ST_CROP'!$B$2:$B$95,AGRICULTURE_USE_2ND_CROP!$B10) -> 19506.839
A11: Brasil | B11: Cerrado | C11: Sudeste | D11: São Paulo | E11: Área de Aplicação da Lei da Mata Atlântica, 1:1.000.000 | F11: 41 | G11: Outras culturas de segunda safra | H11: v1.1 | I11: 11 | J11: =SUMIFS('2ND_CROP_BY_1ST_CROP'!L$2:L$95,'2ND_CROP_BY_1ST_CROP'!$F$2:$F$95,AGRICULTURE_USE_2ND_CROP!$F11,'2ND_CROP_BY_1ST_CROP'!$D$2:$D$95,AGRICULTURE_USE_2ND_CROP!$D11,'2ND_CROP_BY_1ST_CROP'!$B$2:$B$95,AGRICULTURE_USE_2ND_CROP!$B11) -> 17068.72 | K11: =SUMIFS('2ND_CROP_BY_1ST_CROP'!M$2:M$95,'2ND_CROP_BY_1ST_CROP'!$F$2:$F$95,AGRICULTURE_USE_2ND_CROP!$F11,'2ND_CROP_BY_1ST_CROP'!$D$2:$D$95,AGRICULTURE_USE_2ND_CROP!$D11,'2ND_CROP_BY_1ST_CROP'!$B$2:$B$95,AGRICULTURE_USE_2ND_CROP!$B11) -> 20959.681 | L11: =SUMIFS('2ND_CROP_BY_1ST_CROP'!N$2:N$95,'2ND_CROP_BY_1ST_CROP'!$F$2:$F$95,AGRICULTURE_USE_2ND_CROP!$F11,'2ND_CROP_BY_1ST_CROP'!$D$2:$D$95,AGRICULTURE_USE_2ND_CROP!$D11,'2ND_CROP_BY_1ST_CROP'!$B$2:$B$95,AGRICULTURE_USE_2ND_CROP!$B11) -> 21938.837 | M11: =SUMIFS('2ND_CROP_BY_1ST_CROP'!O$2:O$95,'2ND_CROP_BY_1ST_CROP'!$F$2:$F$95,AGRICULTURE_USE_2ND_CROP!$F11,'2ND_CROP_BY_1ST_CROP'!$D$2:$D$95,AGRICULTURE_USE_2ND_CROP!$D11,'2ND_CROP_BY_1ST_CROP'!$B$2:$B$95,AGRICULTURE_USE_2ND_CROP!$B11) -> 23090.888 | N11: =SUMIFS('2ND_CROP_BY_1ST_CROP'!P$2:P$95,'2ND_CROP_BY_1ST_CROP'!$F$2:$F$95,AGRICULTURE_USE_2ND_CROP!$F11,'2ND_CROP_BY_1ST_CROP'!$D$2:$D$95,AGRICULTURE_USE_2ND_CROP!$D11,'2ND_CROP_BY_1ST_CROP'!$B$2:$B$95,AGRICULTURE_USE_2ND_CROP!$B11) -> 22765.893 | O11: =SUMIFS('2ND_CROP_BY_1ST_CROP'!Q$2:Q$95,'2ND_CROP_BY_1ST_CROP'!$F$2:$F$95,AGRICULTURE_USE_2ND_CROP!$F11,'2ND_CROP_BY_1ST_CROP'!$D$2:$D$95,AGRICULTURE_USE_2ND_CROP!$D11,'2ND_CROP_BY_1ST_CROP'!$B$2:$B$95,AGRICULTURE_USE_2ND_CROP!$B11) -> 23707.171 | P11: =SUMIFS('2ND_CROP_BY_1ST_CROP'!R$2:R$95,'2ND_CROP_BY_1ST_CROP'!$F$2:$F$95,AGRICULTURE_USE_2ND_CROP!$F11,'2ND_CROP_BY_1ST_CROP'!$D$2:$D$95,AGRICULTURE_USE_2ND_CROP!$D11,'2ND_CROP_BY_1ST_CROP'!$B$2:$B$95,AGRICULTURE_USE_2ND_CROP!$B11) -> 23685.229 | Q11: =SUMIFS('2ND_CROP_BY_1ST_CROP'!S$2:S$95,'2ND_CROP_BY_1ST_CROP'!$F$2:$F$95,AGRICULTURE_USE_2ND_CROP!$F11,'2ND_CROP_BY_1ST_CROP'!$D$2:$D$95,AGRICULTURE_USE_2ND_CROP!$D11,'2ND_CROP_BY_1ST_CROP'!$B$2:$B$95,AGRICULTURE_USE_2ND_CROP!$B11) -> 19518.684 | ... AI11: =SUMIFS('2ND_CROP_BY_1ST_CROP'!AK$2:AK$95,'2ND_CROP_BY_1ST_CROP'!$F$2:$F$95,AGRICULTURE_USE_2ND_CROP!$F11,'2ND_CROP_BY_1ST_CROP'!$D$2:$D$95,AGRICULTURE_USE_2ND_CROP!$D11,'2ND_CROP_BY_1ST_CROP'!$B$2:$B$95,AGRICULTURE_USE_2ND_CROP!$B11) -> 18312.487
A12: Brasil | B12: Cerrado | C12: Sudeste | D12: Minas Gerais | E12: Área de Aplicação da Lei da Mata Atlântica, 1:1.000.000 | F12: 1 | G12: Milho de segunda safra | H12: v1.1 | I12: 11 | J12: =SUMIFS('2ND_CROP_BY_1ST_CROP'!L$2:L$95,'2ND_CROP_BY_1ST_CROP'!$F$2:$F$95,AGRICULTURE_USE_2ND_CROP!$F12,'2ND_CROP_BY_1ST_CROP'!$D$2:$D$95,AGRICULTURE_USE_2ND_CROP!$D12,'2ND_CROP_BY_1ST_CROP'!$B$2:$B$95,AGRICULTURE_USE_2ND_CROP!$B12) -> 116.73247 | K12: =SUMIFS('2ND_CROP_BY_1ST_CROP'!M$2:M$95,'2ND_CROP_BY_1ST_CROP'!$F$2:$F$95,AGRICULTURE_USE_2ND_CROP!$F12,'2ND_CROP_BY_1ST_CROP'!$D$2:$D$95,AGRICULTURE_USE_2ND_CROP!$D12,'2ND_CROP_BY_1ST_CROP'!$B$2:$B$95,AGRICULTURE_USE_2ND_CROP!$B12) -> 278.03492 | L12: =SUMIFS('2ND_CROP_BY_1ST_CROP'!N$2:N$95,'2ND_CROP_BY_1ST_CROP'!$F$2:$F$95,AGRICULTURE_USE_2ND_CROP!$F12,'2ND_CROP_BY_1ST_CROP'!$D$2:$D$95,AGRICULTURE_USE_2ND_CROP!$D12,'2ND_CROP_BY_1ST_CROP'!$B$2:$B$95,AGRICULTURE_USE_2ND_CROP!$B12) -> 350.93657 | M12: =SUMIFS('2ND_CROP_BY_1ST_CROP'!O$2:O$95,'2ND_CROP_BY_1ST_CROP'!$F$2:$F$95,AGRICULTURE_USE_2ND_CROP!$F12,'2ND_CROP_BY_1ST_CROP'!$D$2:$D$95,AGRICULTURE_USE_2ND_CROP!$D12,'2ND_CROP_BY_1ST_CROP'!$B$2:$B$95,AGRICULTURE_USE_2ND_CROP!$B12) -> 415.64649 | N12: =SUMIFS('2ND_CROP_BY_1ST_CROP'!P$2:P$95,'2ND_CROP_BY_1ST_CROP'!$F$2:$F$95,AGRICULTURE_USE_2ND_CROP!$F12,'2ND_CROP_BY_1ST_CROP'!$D$2:$D$95,AGRICULTURE_USE_2ND_CROP!$D12,'2ND_CROP_BY_1ST_CROP'!$B$2:$B$95,AGRICULTURE_USE_2ND_CROP!$B12) -> 378.33029 | O12: =SUMIFS('2ND_CROP_BY_1ST_CROP'!Q$2:Q$95,'2ND_CROP_BY_1ST_CROP'!$F$2:$F$95,AGRICULTURE_USE_2ND_CROP!$F12,'2ND_CROP_BY_1ST_CROP'!$D$2:$D$95,AGRICULTURE_USE_2ND_CROP!$D12,'2ND_CROP_BY_1ST_CROP'!$B$2:$B$95,AGRICULTURE_USE_2ND_CROP!$B12) -> 313.76655 | P12: =SUMIFS('2ND_CROP_BY_1ST_CROP'!R$2:R$95,'2ND_CROP_BY_1ST_CROP'!$F$2:$F$95,AGRICULTURE_USE_2ND_CROP!$F12,'2ND_CROP_BY_1ST_CROP'!$D$2:$D$95,AGRICULTURE_USE_2ND_CROP!$D12,'2ND_CROP_BY_1ST_CROP'!$B$2:$B$95,AGRICULTURE_USE_2ND_CROP!$B12) -> 192.53631 | Q12: =SUMIFS('2ND_CROP_BY_1ST_CROP'!S$2:S$95,'2ND_CROP_BY_1ST_CROP'!$F$2:$F$95,AGRICULTURE_USE_2ND_CROP!$F12,'2ND_CROP_BY_1ST_CROP'!$D$2:$D$95,AGRICULTURE_USE_2ND_CROP!$D12,'2ND_CROP_BY_1ST_CROP'!$B$2:$B$95,AGRICULTURE_USE_2ND_CROP!$B12) -> 222.56276 | ... AI12: =SUMIFS('2ND_CROP_BY_1ST_CROP'!AK$2:AK$95,'2ND_CROP_BY_1ST_CROP'!$F$2:$F$95,AGRICULTURE_USE_2ND_CROP!$F12,'2ND_CROP_BY_1ST_CROP'!$D$2:$D$95,AGRICULTURE_USE_2ND_CROP!$D12,'2ND_CROP_BY_1ST_CROP'!$B$2:$B$95,AGRICULTURE_USE_2ND_CROP!$B12) -> 9188.7542
A13: Brasil | B13: Cerrado | C13: Sudeste | D13: Minas Gerais | E13: Área de Aplicação da Lei da Mata Atlântica, 1:1.000.000 | F13: 41 | G13: Outras culturas de segunda safra | H13: v1.1 | I13: 11 | J13: =SUMIFS('2ND_CROP_BY_1ST_CROP'!L$2:L$95,'2ND_CROP_BY_1ST_CROP'!$F$2:$F$95,AGRICULTURE_USE_2ND_CROP!$F13,'2ND_CROP_BY_1ST_CROP'!$D$2:$D$95,AGRICULTURE_USE_2ND_CROP!$D13,'2ND_CROP_BY_1ST_CROP'!$B$2:$B$95,AGRICULTURE_USE_2ND_CROP!$B13) -> 10895.467 | K13: =SUMIFS('2ND_CROP_BY_1ST_CROP'!M$2:M$95,'2ND_CROP_BY_1ST_CROP'!$F$2:$F$95,AGRICULTURE_USE_2ND_CROP!$F13,'2ND_CROP_BY_1ST_CROP'!$D$2:$D$95,AGRICULTURE_USE_2ND_CROP!$D13,'2ND_CROP_BY_1ST_CROP'!$B$2:$B$95,AGRICULTURE_USE_2ND_CROP!$B13) -> 15545.186 | L13: =SUMIFS('2ND_CROP_BY_1ST_CROP'!N$2:N$95,'2ND_CROP_BY_1ST_CROP'!$F$2:$F$95,AGRICULTURE_USE_2ND_CROP!$F13,'2ND_CROP_BY_1ST_CROP'!$D$2:$D$95,AGRICULTURE_USE_2ND_CROP!$D13,'2ND_CROP_BY_1ST_CROP'!$B$2:$B$95,AGRICULTURE_USE_2ND_CROP!$B13) -> 16371.037 | M13: =SUMIFS('2ND_CROP_BY_1ST_CROP'!O$2:O$95,'2ND_CROP_BY_1ST_CROP'!$F$2:$F$95,AGRICULTURE_USE_2ND_CROP!$F13,'2ND_CROP_BY_1ST_CROP'!$D$2:$D$95,AGRICULTURE_USE_2ND_CROP!$D13,'2ND_CROP_BY_1ST_CROP'!$B$2:$B$95,AGRICULTURE_USE_2ND_CROP!$B13) -> 16022.729 | N13: =SUMIFS('2ND_CROP_BY_1ST_CROP'!P$2:P$95,'2ND_CROP_BY_1ST_CROP'!$F$2:$F$95,AGRICULTURE_USE_2ND_CROP!$F13,'2ND_CROP_BY_1ST_CROP'!$D$2:$D$95,AGRICULTURE_USE_2ND_CROP!$D13,'2ND_CROP_BY_1ST_CROP'!$B$2:$B$95,AGRICULTURE_USE_2ND_CROP!$B13) -> 18299.846 | O13: =SUMIFS('2ND_CROP_BY_1ST_CROP'!Q$2:Q$95,'2ND_CROP_BY_1ST_CROP'!$F$2:$F$95,AGRICULTURE_USE_2ND_CROP!$F13,'2ND_CROP_BY_1ST_CROP'!$D$2:$D$95,AGRICULTURE_USE_2ND_CROP!$D13,'2ND_CROP_BY_1ST_CROP'!$B$2:$B$95,AGRICULTURE_USE_2ND_CROP!$B13) -> 18040.497 | P13: =SUMIFS('2ND_CROP_BY_1ST_CROP'!R$2:R$95,'2ND_CROP_BY_1ST_CROP'!$F$2:$F$95,AGRICULTURE_USE_2ND_CROP!$F13,'2ND_CROP_BY_1ST_CROP'!$D$2:$D$95,AGRICULTURE_USE_2ND_CROP!$D13,'2ND_CROP_BY_1ST_CROP'!$B$2:$B$95,AGRICULTURE_USE_2ND_CROP!$B13) -> 21723.563 | Q13: =SUMIFS('2ND_CROP_BY_1ST_CROP'!S$2:S$95,'2ND_CROP_BY_1ST_CROP'!$F$2:$F$95,AGRICULTURE_USE_2ND_CROP!$F13,'2ND_CROP_BY_1ST_CROP'!$D$2:$D$95,AGRICULTURE_USE_2ND_CROP!$D13,'2ND_CROP_BY_1ST_CROP'!$B$2:$B$95,AGRICULTURE_USE_2ND_CROP!$B13) -> 22558.367 | ... AI13: =SUMIFS('2ND_CROP_BY_1ST_CROP'!AK$2:AK$95,'2ND_CROP_BY_1ST_CROP'!$F$2:$F$95,AGRICULTURE_USE_2ND_CROP!$F13,'2ND_CROP_BY_1ST_CROP'!$D$2:$D$95,AGRICULTURE_USE_2ND_CROP!$D13,'2ND_CROP_BY_1ST_CROP'!$B$2:$B$95,AGRICULTURE_USE_2ND_CROP!$B13) -> 32260.556
... A48: Brasil | B48: Mata Atlântica | C48: Sudeste | D48: Rio de Janeiro | E48: Área de Aplicação da Lei da Mata Atlântica, 1:1.000.000 | F48: 41 | G48: Outras culturas de segunda safra | H48: v1.1 | I48: 11 | J48: =SUMIFS('2ND_CROP_BY_1ST_CROP'!L$2:L$95,'2ND_CROP_BY_1ST_CROP'!$F$2:$F$95,AGRICULTURE_USE_2ND_CROP!$F48,'2ND_CROP_BY_1ST_CROP'!$D$2:$D$95,AGRICULTURE_USE_2ND_CROP!$D48,'2ND_CROP_BY_1ST_CROP'!$B$2:$B$95,AGRICULTURE_USE_2ND_CROP!$B48) -> 0 | K48: =SUMIFS('2ND_CROP_BY_1ST_CROP'!M$2:M$95,'2ND_CROP_BY_1ST_CROP'!$F$2:$F$95,AGRICULTURE_USE_2ND_CROP!$F48,'2ND_CROP_BY_1ST_CROP'!$D$2:$D$95,AGRICULTURE_USE_2ND_CROP!$D48,'2ND_CROP_BY_1ST_CROP'!$B$2:$B$95,AGRICULTURE_USE_2ND_CROP!$B48) -> 0 | L48: =SUMIFS('2ND_CROP_BY_1ST_CROP'!N$2:N$95,'2ND_CROP_BY_1ST_CROP'!$F$2:$F$95,AGRICULTURE_USE_2ND_CROP!$F48,'2ND_CROP_BY_1ST_CROP'!$D$2:$D$95,AGRICULTURE_USE_2ND_CROP!$D48,'2ND_CROP_BY_1ST_CROP'!$B$2:$B$95,AGRICULTURE_USE_2ND_CROP!$B48) -> 0 | M48: =SUMIFS('2ND_CROP_BY_1ST_CROP'!O$2:O$95,'2ND_CROP_BY_1ST_CROP'!$F$2:$F$95,AGRICULTURE_USE_2ND_CROP!$F48,'2ND_CROP_BY_1ST_CROP'!$D$2:$D$95,AGRICULTURE_USE_2ND_CROP!$D48,'2ND_CROP_BY_1ST_CROP'!$B$2:$B$95,AGRICULTURE_USE_2ND_CROP!$B48) -> 0 | N48: =SUMIFS('2ND_CROP_BY_1ST_CROP'!P$2:P$95,'2ND_CROP_BY_1ST_CROP'!$F$2:$F$95,AGRICULTURE_USE_2ND_CROP!$F48,'2ND_CROP_BY_1ST_CROP'!$D$2:$D$95,AGRICULTURE_USE_2ND_CROP!$D48,'2ND_CROP_BY_1ST_CROP'!$B$2:$B$95,AGRICULTURE_USE_2ND_CROP!$B48) -> 0 | O48: =SUMIFS('2ND_CROP_BY_1ST_CROP'!Q$2:Q$95,'2ND_CROP_BY_1ST_CROP'!$F$2:$F$95,AGRICULTURE_USE_2ND_CROP!$F48,'2ND_CROP_BY_1ST_CROP'!$D$2:$D$95,AGRICULTURE_USE_2ND_CROP!$D48,'2ND_CROP_BY_1ST_CROP'!$B$2:$B$95,AGRICULTURE_USE_2ND_CROP!$B48) -> 0 | P48: =SUMIFS('2ND_CROP_BY_1ST_CROP'!R$2:R$95,'2ND_CROP_BY_1ST_CROP'!$F$2:$F$95,AGRICULTURE_USE_2ND_CROP!$F48,'2ND_CROP_BY_1ST_CROP'!$D$2:$D$95,AGRICULTURE_USE_2ND_CROP!$D48,'2ND_CROP_BY_1ST_CROP'!$B$2:$B$95,AGRICULTURE_USE_2ND_CROP!$B48) -> 0 | Q48: =SUMIFS('2ND_CROP_BY_1ST_CROP'!S$2:S$95,'2ND_CROP_BY_1ST_CROP'!$F$2:$F$95,AGRICULTURE_USE_2ND_CROP!$F48,'2ND_CROP_BY_1ST_CROP'!$D$2:$D$95,AGRICULTURE_USE_2ND_CROP!$D48,'2ND_CROP_BY_1ST_CROP'!$B$2:$B$95,AGRICULTURE_USE_2ND_CROP!$B48) -> 0 | ... AI48: =SUMIFS('2ND_CROP_BY_1ST_CROP'!AK$2:AK$95,'2ND_CROP_BY_1ST_CROP'!$F$2:$F$95,AGRICULTURE_USE_2ND_CROP!$F48,'2ND_CROP_BY_1ST_CROP'!$D$2:$D$95,AGRICULTURE_USE_2ND_CROP!$D48,'2ND_CROP_BY_1ST_CROP'!$B$2:$B$95,AGRICULTURE_USE_2ND_CROP!$B48) -> 0.41344579

Sheet PIVOT_2ND_CROP
I17: Rótulos de Coluna
H18: Valores | I18: Outras culturas de segunda safra | J18: Milho de segunda safra | K18: Algodão de segunda safra | L18: Total Geral
H19: Soma de y2000 | I19: 3014390.8 | J19: 662130.57 | K19: 20795.533 | L19: 3697316.9
H20: Soma de y2001 | I20: 4235446.8 | J20: 1423443.7 | K20: 36065.924 | L20: 5694956.4
H21: Soma de y2002 | I21: 4401548 | J21: 1408953.8 | K21: 32665.587 | L21: 5843167.4
H22: Soma de y2003 | I22: 4164606.4 | J22: 1632638.2 | K22: 22403.825 | L22: 5819648.4
H23: Soma de y2004 | I23: 4158810.7 | J23: 1329095.7 | K23: 21146.288 | L23: 5509052.7
H24: Soma de y2005 | I24: 4347960 | J24: 1256903.6 | K24: 11268.746 | L24: 5616132.3
H25: Soma de y2006 | I25: 4459336.1 | J25: 1592645 | K25: 12867.554 | L25: 6064848.7
H26: Soma de y2007 | I26: 4046136.7 | J26: 1839387.4 | K26: 17932.112 | L26: 5903456.2
H27: Soma de y2008 | I27: 4062585.8 | J27: 1832743.7 | K27: 37394.448 | L27: 5932724
H28: Soma de y2009 | I28: 4162496.8 | J28: 1810963.7 | K28: 65229.878 | L28: 6038690.4
H29: Soma de y2010 | I29: 4058067.9 | J29: 1657129.1 | K29: 33783.542 | L29: 5748980.6
H30: Soma de y2011 | I30: 3740137.1 | J30: 2243241.4 | K30: 18588.312 | L30: 6001966.8
... H44: Soma de y2025 | I44: 3025601.5 | J44: 4959550.7 | K44: 95455.151 | L44: 8080607.4

Sheet 2ND_CROP_BY_1ST_CROP
A1: COUNTRY | B1: BIOME | C1: REGION | D1: STATE | E1: TERRITORY | F1: 2ND_CROP_CLASS_ID | G1: 2ND_CROP_CLASS_NAME | H1: CLASS_ID | I1: CLASS_NAME | J1: VERSION | K1: COLLECTION | L1: y2000 | M1: y2001 | N1: y2002 | O1: y2003 | P1: y2004 | Q1: y2005 | R1: y2006 | S1: y2007 | T1: y2008 | U1: y2009 | V1: y2010 | W1: y2011 | X1: y2012 | Y1: y2013 | Z1: y2014 | AA1: y2015 | AB1: y2016 | AC1: y2017 | AD1: y2018 | AE1: y2019 | AF1: y2020 | AG1: y2021 | AH1: y2022 | AI1: y2023 | AJ1: y2024 | AK1: y2025
A2: Brasil | B2: Caatinga | C2: Sudeste | D2: Minas Gerais | E2: Área de Aplicação da Lei da Mata Atlântica, 1:1.000.000 | F2: 1 | G2: Milho de segunda safra | H2: 39 | I2: Soja | J2: v1.1 | K2: 11 | L2: 0 | M2: 0.51763707 | N2: 0 | O2: 0 | P2: 0 | Q2: 0 | R2: 0 | S2: 0 | T2: 0 | U2: 0 | V2: 0 | W2: 2.5881875 | X2: 0 | Y2: 2.3293706 | Z2: 8.9724556 | AA2: 0 | AB2: 13.914762 | AC2: 93.081524 | AD2: 73.11768 | AE2: 92.995006 | AF2: 61.361303 | AG2: 17.891534 | AH2: 55.090848 | AI2: 24.990122 | AJ2: 8.8145117 | AK2: 339.62549
A3: Brasil | B3: Caatinga | C3: Sudeste | D3: Minas Gerais | E3: Área de Aplicação da Lei da Mata Atlântica, 1:1.000.000 | F3: 1 | G3: Milho de segunda safra | H3: 41 | I3: Outras lavouras temporárias | J3: v1.1 | K3: 11 | L3: 262.08141 | M3: 513.07882 | N3: 566.62986 | O3: 458.6024 | P3: 396.5564 | Q3: 390.44286 | R3: 380.26712 | S3: 370.66887 | T3: 384.76772 | U3: 391.30301 | V3: 303.10643 | W3: 407.3445 | X3: 636.76204 | Y3: 526.93589 | Z3: 553.29679 | AA3: 774.57215 | AB3: 926.10586 | AC3: 916.51425 | AD3: 890.29474 | AE3: 756.93525 | AF3: 718.08124 | AG3: 728.82887 | AH3: 509.44965 | AI3: 632.99754 | AJ3: 633.71687 | AK3: 1149.6762
A4: Brasil | B4: Caatinga | C4: Sudeste | D4: Minas Gerais | E4: Área de Aplicação da Lei da Mata Atlântica, 1:1.000.000 | F4: 41 | G4: Outras culturas de segunda safra | H4: 39 | I4: Soja | J4: v1.1 | K4: 11 | L4: 6.1252669 | M4: 16.910498 | N4: 20.280142 | O4: 17.443101 | P4: 11.828197 | Q4: 14.061963 | R4: 2.0704929 | S4: 12.789631 | T4: 24.964057 | U4: 32.196113 | V4: 102.80385 | W4: 108.41231 | X4: 74.147083 | Y4: 264.11921 | Z4: 707.83733 | AA4: 1031.8223 | AB4: 946.54551 | AC4: 670.88688 | AD4: 675.07019 | AE4: 785.63781 | AF4: 1084.6498 | AG4: 1171.2346 | AH4: 1229.4483 | AI4: 1188.2659 | AJ4: 1298.322 | AK4: 1390.1011
A5: Brasil | B5: Caatinga | C5: Sudeste | D5: Minas Gerais | E5: Área de Aplicação da Lei da Mata Atlântica, 1:1.000.000 | F5: 41 | G5: Outras culturas de segunda safra | H5: 41 | I5: Outras lavouras temporárias | J5: v1.1 | K5: 11 | L5: 1984.7374 | M5: 2214.1157 | N5: 2264.6411 | O5: 2166.6002 | P5: 2103.4506 | Q5: 2379.9391 | R5: 2477.7185 | S5: 2859.3137 | T5: 2940.8748 | U5: 3009.5091 | V5: 3241.8475 | W5: 3242.9193 | X5: 3176.0384 | Y5: 2936.1405 | Z5: 2790.216 | AA5: 2865.1143 | AB5: 3144.4382 | AC5: 3611.0385 | AD5: 3590.1531 | AE5: 3719.5582 | AF5: 3620.8937 | AG5: 3462.2156 | AH5: 3620.4257 | AI5: 3315.5 | AJ5: 3355.9995 | AK5: 3464.7244
A6: Brasil | B6: Caatinga | C6: Sudeste | D6: Minas Gerais | E6: Área de Aplicação da Lei da Mata Atlântica, 1:1.000.000 | F6: 62 | G6: Algodão de segunda safra | H6: 41 | I6: Outras lavouras temporárias | J6: v1.1 | K6: 11 | L6: 0.69363549 | M6: 0.43348776 | N6: 0.086715973 | O6: 0.086715973 | P6: 0.086715973 | Q6: 0.086715973 | R6: 0.086715973 | S6: 0.086715973 | T6: 0.086715973 | U6: 0.086715973 | V6: 0.086715973 | W6: 0.086715973 | X6: 0.086715973 | Y6: 0.17329575 | Z6: 0.25997015 | AA6: 0.5199464 | AB6: 0.5199464 | AC6: 0.5199464 | AD6: 0.34659993 | AE6: 0 | AF6: 0 | AG6: 0 | AH6: 0.3468644 | AI6: 0 | AJ6: 0 | AK6: 0
A7: Brasil | B7: Caatinga | C7: Nordeste | D7: Bahia | E7: Área de Aplicação da Lei da Mata Atlântica, 1:1.000.000 | F7: 1 | G7: Milho de segunda safra | H7: 39 | I7: Soja | J7: v1.1 | K7: 11 | L7: 2.0030377 | M7: 56.172207 | N7: 91.359046 | O7: 28.130571 | P7: 19.334017 | Q7: 48.160371 | R7: 0.69672874 | S7: 1.5680825 | T7: 9.0568216 | U7: 0.086672369 | V7: 0.9581369 | W7: 226.43064 | X7: 98.312732 | Y7: 132.99034 | Z7: 197.41467 | AA7: 146.34521 | AB7: 73.781712 | AC7: 130.79523 | AD7: 222.62797 | AE7: 258.78897 | AF7: 259.67846 | AG7: 391.69079 | AH7: 513.73098 | AI7: 284.89873 | AJ7: 381.85331 | AK7: 553.91999
A8: Brasil | B8: Caatinga | C8: Nordeste | D8: Bahia | E8: Área de Aplicação da Lei da Mata Atlântica, 1:1.000.000 | F8: 1 | G8: Milho de segunda safra | H8: 41 | I8: Outras lavouras temporárias | J8: v1.1 | K8: 11 | L8: 219.0692 | M8: 409.61066 | N8: 329.95648 | O8: 128.83836 | P8: 147.19625 | Q8: 221.40983 | R8: 127.76651 | S8: 171.16381 | T8: 252.8649 | U8: 131.77627 | V8: 151.90093 | W8: 285.48723 | X8: 434.1026 | Y8: 743.32046 | Z8: 709.44884 | AA8: 1083.3184 | AB8: 962.51944 | AC8: 931.28362 | AD8: 823.12694 | AE8: 1018.6336 | AF8: 1185.5218 | AG8: 1942.4064 | AH8: 1668.7676 | AI8: 1611.9045 | AJ8: 1630.2805 | AK8: 2426.2186
A9: Brasil | B9: Caatinga | C9: Nordeste | D9: Bahia | E9: Área de Aplicação da Lei da Mata Atlântica, 1:1.000.000 | F9: 41 | G9: Outras culturas de segunda safra | H9: 39 | I9: Soja | J9: v1.1 | K9: 11 | L9: 2.8742759 | M9: 25.435374 | N9: 33.695751 | O9: 74.452567 | P9: 178.34414 | Q9: 125.82852 | R9: 183.49517 | S9: 64.188318 | T9: 33.186037 | U9: 105.28867 | V9: 387.70743 | W9: 233.74502 | X9: 91.087221 | Y9: 64.870065 | Z9: 241.32082 | AA9: 370.41534 | AB9: 240.91338 | AC9: 297.8561 | AD9: 276.66879 | AE9: 340.39398 | AF9: 425.45971 | AG9: 267.51665 | AH9: 278.01103 | AI9: 603.16378 | AJ9: 487.10819 | AK9: 663.11384
A10: Brasil | B10: Caatinga | C10: Nordeste | D10: Bahia | E10: Área de Aplicação da Lei da Mata Atlântica, 1:1.000.000 | F10: 41 | G10: Outras culturas de segunda safra | H10: 41 | I10: Outras lavouras temporárias | J10: v1.1 | K10: 11 | L10: 1276.1541 | M10: 1493.5731 | N10: 1403.8169 | O10: 1876.5459 | P10: 1852.4452 | Q10: 1911.0618 | R10: 2041.8073 | S10: 2095.4044 | T10: 2129.293 | U10: 2265.9727 | V10: 1916.261 | W10: 1572.6911 | X10: 1865.4607 | Y10: 1477.5969 | Z10: 1211.1333 | AA10: 1267.5163 | AB10: 1719.7855 | AC10: 1618.5897 | AD10: 1843.093 | AE10: 1712.6657 | AF10: 1446.1859 | AG10: 999.50857 | AH10: 1140.4398 | AI10: 1120.0346 | AJ10: 1067.3672 | AK10: 901.42268
A11: Brasil | B11: Caatinga | C11: Nordeste | D11: Bahia | E11: Área de Aplicação da Lei da Mata Atlântica, 1:1.000.000 | F11: 62 | G11: Algodão de segunda safra | H11: 39 | I11: Soja | J11: v1.1 | K11: 11 | L11: 3.8315153 | M11: 166.4542 | N11: 193.35802 | O11: 163.98794 | P11: 57.642089 | Q11: 26.031307 | R11: 8.5276431 | S11: 0 | T11: 0 | U11: 0 | V11: 25.941497 | W11: 21.931042 | X11: 73.407775 | Y11: 30.266541 | Z11: 205.50942 | AA11: 245.97481 | AB11: 203.27074 | AC11: 249.45681 | AD11: 27.222553 | AE11: 27.065393 | AF11: 48.529491 | AG11: 17.748841 | AH11: 231.96919 | AI11: 222.33031 | AJ11: 161.88353 | AK11: 210.54037
A12: Brasil | B12: Caatinga | C12: Nordeste | D12: Bahia | E12: Área de Aplicação da Lei da Mata Atlântica, 1:1.000.000 | F12: 62 | G12: Algodão de segunda safra | H12: 41 | I12: Outras lavouras temporárias | J12: v1.1 | K12: 11 | L12: 87.968874 | M12: 419.01568 | N12: 362.38173 | O12: 377.83488 | P12: 372.11857 | Q12: 232.38572 | R12: 129.35032 | S12: 156.90785 | T12: 160.42745 | U12: 141.09252 | V12: 124.77299 | W12: 62.137351 | X12: 132.12125 | Y12: 189.42543 | Z12: 417.96984 | AA12: 288.57249 | AB12: 235.99512 | AC12: 231.71707 | AD12: 339.38275 | AE12: 329.94092 | AF12: 377.24066 | AG12: 162.6124 | AH12: 400.82338 | AI12: 199.77776 | AJ12: 247.96249 | AK12: 523.59943
A13: Brasil | B13: Caatinga | C13: Nordeste | D13: Piauí | E13: Área de Aplicação da Lei da Mata Atlântica, 1:1.000.000 | F13: 1 | G13: Milho de segunda safra | H13: 39 | I13: Soja | J13: v1.1 | K13: 11 | L13: 0 | M13: 0 | N13: 0 | O13: 0 | P13: 0 | Q13: 0 | R13: 0.70380522 | S13: 0 | T13: 43.900538 | U13: 58.772208 | V13: 10.382009 | W13: 3.6075701 | X13: 3.6083748 | Y13: 0 | Z13: 81.639434 | AA13: 105.06124 | AB13: 19.105458 | AC13: 11.713963 | AD13: 9.2521234 | AE13: 97.833104 | AF13: 141.08836 | AG13: 140.92235 | AH13: 136.69962 | AI13: 126.02815 | AJ13: 193.86635 | AK13: 283.29987
... A95: Brasil | B95: Caatinga | C95: Nordeste | D95: Bahia | E95: Área de Aplicação da Lei da Mata Atlântica, 1:1.000.000 | F95: 62 | G95: Algodão de segunda safra | H95: 62 | I95: Algodão (beta) | J95: v1.1 | K95: 11 | L95: 0 | M95: 0 | N95: 0 | O95: 0 | P95: 0 | Q95: 0 | R95: 0 | S95: 0 | T95: 0 | U95: 0 | V95: 0 | W95: 0 | X95: 0 | Y95: 0 | Z95: 0 | AA95: 0 | AB95: 0 | AC95: 0 | AD95: 0 | AE95: 0 | AF95: 0.087089673 | AG95: 0 | AH95: 0 | AI95: 0 | AJ95: 2.6110452 | AK95: 0

Sheet PIVOT_2ND_AND_1ST_CROP
B2: Dúvidas frequentes 1) O que estes dados exibem? Resposta: Os dados apresentam a área (ha) de culturas agrícolas de 2ª safra segundo a cultura mapeada como 1ª safra. Esse par permite visualizar sucessões de cultura como soja seguida de milho - a safrinha. Filtre a classe de lavoura temporária - soja ou outras lavouras temporárias - para analisar os dados de segunda safra 2) Como visualizar esses dados na Plataforma MapBiomas? Resposta: Utilize a seção 'Criar Análise' > ' Intersecção entre temas'. Selecione o tema 'Agricultura' > 'Uso agrícola' e escolha uma classe de lavoura temporária para analisar. Em seguida, selecione o segundo tema de intersecção: 'Agricultura' > 'Uso agrícola - 2ª safra'. Por fim, escolha um território para análise. O mapa e os gráficos exibiram dados para a intersecção entre a classe de Uso Agricola escolhida e o mapeamento de 2 ª safra. | K2: Área(ha) de uso agrícola, ano a ano, por tipo de cultura de 2ª Safra | Intersecção com cultura temporária de 1ª Safra
B15: Filtro de classe: Lavouras Temporárias - 1ª Safra (MapBiomas 30m)
L17: Rótulos de Coluna
K18: Valores | L18: Outras culturas de segunda safra | M18: Milho de segunda safra | N18: Algodão de segunda safra | O18: Total Geral
K19: Soma de y2000 | L19: 1808756.2 | M19: 502740.25 | N19: 15468.187 | O19: 2326964.6
K20: Soma de y2001 | L20: 2671285.6 | M20: 949547.21 | N20: 26000.373 | O20: 3646833.2
K21: Soma de y2002 | L21: 2879097.6 | M21: 939943.32 | N21: 25637.001 | O21: 3844678
K22: Soma de y2003 | L22: 2747258.7 | M22: 1212717.2 | N22: 18191.296 | O22: 3978167.2
B23: Filtros de territórios | K23: Soma de y2004 | L23: 2861727.1 | M23: 843789.39 | N23: 17001.562 | O23: 3722518.1
K24: Soma de y2005 | L24: 3273167.5 | M24: 1025159.2 | N24: 9491.792 | O24: 4307818.5
K25: Soma de y2006 | L25: 3308106.4 | M25: 1210293.5 | N25: 6760.3318 | O25: 4525160.3
K26: Soma de y2007 | L26: 2983575.8 | M26: 1570338.5 | N26: 11889.785 | O26: 4565804.1
K27: Soma de y2008 | L27: 2906669.8 | M27: 1514908.5 | N27: 29389.554 | O27: 4450967.8
K28: Soma de y2009 | L28: 3069753 | M28: 1485840.1 | N28: 57816.277 | O28: 4613409.4
K29: Soma de y2010 | L29: 3084756.3 | M29: 1436153.9 | N29: 29651.687 | O29: 4550561.9
K30: Soma de y2011 | L30: 2825239.6 | M30: 1844859.1 | N30: 13749.086 | O30: 4683847.8
K31: Soma de y2012 | L31: 2629147.5 | M31: 2522765.6 | N31: 4473.8104 | O31: 5156386.9
K32: Soma de y2013 | L32: 2474999.8 | M32: 2756282 | N32: 6943.7798 | O32: 5238225.5
K33: Soma de y2014 | L33: 2585761 | M33: 2373143.8 | N33: 17187.549 | O33: 4976092.3
K34: Soma de y2015 | L34: 2355617.6 | M34: 2867850.9 | N34: 25201.561 | O34: 5248670.1
K35: Soma de y2016 | L35: 3230171.2 | M35: 2732950.7 | N35: 14398.758 | O35: 5977520.7
... K44: Soma de y2025 | L44: 2753991.2 | M44: 4733218.8 | N44: 92352.186 | O44: 7579562.1
C48: NOTA: Os mapas de uso agrícola - 2ª safra estão em fase experimental (Beta). Saiba mais sobre as características e limitações do mapeamento no documento descritivo do método - ATBD.

Sheet METADATA
B3: Uso agrícola - 2ª Safra / Agriculture use - 2nd Crop
B4: Campo/Field | C4: Descrição do campo | D4: Field Description
B5: country | C5: País | D5: Country
B6: biome | C6: Bioma | D6: Biome
B7: region | C7: Região | D7: Region
B8: state | C8: Estado | D8: State
B9: territory | C9: Área de aplicação da Lei da Mata Atlântica | D9: Atlantic Forest Law application area
B10: class_id | C10: Código da classe de 'Uso Agrícola' | D10: 'Agriculture use' class code
B11: class_name | C11: Nome da classe de 'Uso Agrícola' | D11: 'Agriculture use' class name
B12: class_id_2nd_crop | C12: Código da classe de 'Uso Agrícola - 2ª Safra' | D12: 'Agriculture use - 2nd crop' class code
B13: class_name_2nd_crop | C13: Nome da classe de 'Uso Agrícola - 2ª Safra' | D13: 'Agriculture use - 2nd crop' class name
B14: version | C14: Versão | D14: Processing version
B15: collection | C15: Coleção MapBiomas (11) | D15: MapBiomas Collection (11)

Sheet LEGEND
B2: Agricultura - Uso Agrícola 2ª Safra | Códigos de legenda Agriculture - Agriculture use 2nd Crop| Legend Code | G2: Agricultura - Uso Agrícola | Códigos de legenda Agriculture - Agriculture use | Legend Code
B4: classes (PT-BR) | C4: classes (EN) | D4: class_id | E4: color_hex_code | G4: Nível/Level | H4: classes (PT-BR) | I4: classes (EN) | J4: class_id | K4: color_hex_code
B5: Milho de Segunda Safra | D5: 1 | E5: #a95f33 | G5: 1 | H5: 1.Lavoura Temporária | I5: 1. Temporary Crop | J5: 19 | K5: #C27BA0
B6: Algodão de Segunda Safra | D6: 62 | E6: #bcb761 | G6: 2 | H6: 1.1 Soja | I6: 1.1 Soybean | J6: 39 | K6: #f5b3c8
B7: Outras culturas de Segunda Safra | D7: 41 | E7: #f54ca9 | G7: 2 | H7: 1.2 Cana | I7: 1.2 Sugar cane | J7: 20 | K7: #db7093
G8: 2 | H8: 1.3 Arroz | I8: 1.3 Rice | J8: 40 | K8: #c71585
G9: 2 | H9: 1.4 Algodão (beta) | I9: 1.4 Cotton (beta) | J9: 62 | K9: #ff69b4
G10: 2 | H10: 1.5 Outras Lavouras Temporárias | I10: 1.5 Other Temporary Crops | J10: 41 | K10: #f54ca9
G11: 1 | H11: 2. Lavoura Perene | I11: 2. Perennial Crop | J11: 36 | K11: #d082de
G12: 2 | H12: 2.1 Café | I12: 2.1 Coffee | J12: 46 | K12: #d68fe2
G13: 2 | H13: 2.2 Citrus | I13: 2.2 Citrus | J13: 47 | K13: #9932cc
G14: 2 | H14: 2.3 Dendê | I14: 2.3 Palm Oil | J14: 35 | K14: #9065d0
G15: 2 | H15: 2.4 Outras Lavouras Perenes | I15: 2.4 Other Perennial Crops | J15: 48 | K15: #e6ccff
